BEGIN:VCALENDAR
VERSION:2.0
PRODID:-//ddaysoftware.com//NONSGML DDay.iCal 1.0//EN
BEGIN:VTIMEZONE
TZID:W. Europe Standard Time
BEGIN:STANDARD
DTSTART:20251002T030000
RRULE:FREQ=YEARLY;BYDAY=-1SU;BYHOUR=3;BYMINUTE=0;BYMONTH=10
TZNAME:Mitteleuropäische Zeit
TZOFFSETFROM:+0200
TZOFFSETTO:+0100
END:STANDARD
BEGIN:DAYLIGHT
DTSTART:20250301T020000
RRULE:FREQ=YEARLY;BYDAY=-1SU;BYHOUR=2;BYMINUTE=0;BYMONTH=3
TZNAME:Mitteleuropäische Sommerzeit
TZOFFSETFROM:+0100
TZOFFSETTO:+0200
END:DAYLIGHT
END:VTIMEZONE
BEGIN:VEVENT
CATEGORIES:Sport\, Freizeit
DESCRIPTION:Genieße die meditativen Bewegungen des Qi Gong jeweils 1 Stunde
  unter professioneller Anleitung.\n\nVeranstalter: Qi Gong & Tai Chi Werks
 tatt Kirchzell Alexander Schell\n\nhttps://www.kirchzell.de/freizeit-und-t
 ourismus/veranstaltungen/qi-gong-im-sommer-2/
DTEND:20260820T093000
DTSTAMP:20260422T175614Z
DTSTART:20260507T093000
LOCATION:Qi Gong & Tai Chi Werkstatt Kirchzell: In den Brunnenäckern 17\, 6
 3931 Kirchzell
SEQUENCE:0
SUMMARY:Qi Gong im Sommer
UID:198746
URL:https://www.kirchzell.de/freizeit-und-tourismus/veranstaltungen/qi-gong
 -im-sommer-2/
END:VEVENT
END:VCALENDAR
